BEGIN:VCALENDAR
VERSION:2.0
PRODID:-//Italia Liberty - ECPv6.15.20//NONSGML v1.0//EN
CALSCALE:GREGORIAN
METHOD:PUBLISH
X-WR-CALNAME:Italia Liberty
X-ORIGINAL-URL:https://italialiberty.it
X-WR-CALDESC:Eventi per Italia Liberty
REFRESH-INTERVAL;VALUE=DURATION:PT1H
X-Robots-Tag:noindex
X-PUBLISHED-TTL:PT1H
BEGIN:VTIMEZONE
TZID:Europe/Rome
BEGIN:DAYLIGHT
TZOFFSETFROM:+0100
TZOFFSETTO:+0200
TZNAME:CEST
DTSTART:20180325T010000
END:DAYLIGHT
BEGIN:STANDARD
TZOFFSETFROM:+0200
TZOFFSETTO:+0100
TZNAME:CET
DTSTART:20181028T010000
END:STANDARD
BEGIN:DAYLIGHT
TZOFFSETFROM:+0100
TZOFFSETTO:+0200
TZNAME:CEST
DTSTART:20190331T010000
END:DAYLIGHT
BEGIN:STANDARD
TZOFFSETFROM:+0200
TZOFFSETTO:+0100
TZNAME:CET
DTSTART:20191027T010000
END:STANDARD
BEGIN:DAYLIGHT
TZOFFSETFROM:+0100
TZOFFSETTO:+0200
TZNAME:CEST
DTSTART:20200329T010000
END:DAYLIGHT
BEGIN:STANDARD
TZOFFSETFROM:+0200
TZOFFSETTO:+0100
TZNAME:CET
DTSTART:20201025T010000
END:STANDARD
END:VTIMEZONE
BEGIN:VEVENT
DTSTART;VALUE=DATE:20190708
DTEND;VALUE=DATE:20190715
DTSTAMP:20260421T195517
CREATED:20250624T233654Z
LAST-MODIFIED:20251126T152103Z
UID:10000153-1562544000-1563148799@italialiberty.it
SUMMARY:Art Nouveau Week: Edizione 2019
DESCRIPTION:L’associazione Italia Liberty organizza\, dall’8 al 14 luglio\, l’ART NOUVEAU WEEK\, prima edizione di una  grande manifestazione internazionale che celebra la corrente artistica Art Nouveau.  \nUn periodo che il curatore dell’evento\, Andrea Speziali\, ha scelto perché in quella settimana ricorrono sia  l’anniversario della nascita di Giuseppe Sommaruga\, uno tra i protagonista del Liberty italiano\, che quello  di Gustav Klimt\, insuperabile artista della Secessione Viennese.  \nCosì come l’associazione ha fortemente voluto che si trattasse di un evento diffuso\, con tanti appuntamenti  diversi in varie località: visite guidate\, mostre\, conferenze\, workshop\, performance e spettacoli per  consentire a un vasto pubblico di vivere un’esperienza originale a ritroso nel tempo\, tra arte visiva e gusto.  \nFilo conduttore dell’edizione: Giuseppe Sommaruga \n» Saranno aperti al pubblico numerosi siti esclusivi.   \nCentocinquanta dimore storiche\, centoventi tour Liberty solo in Italia\, sette mostre allestite da soggetti  diversi per celebrare l’Art Nouveau.  \nPer citare solo alcuni\, a Savona sarà possibile ammirare gli interni di villa Zanelli\, a Livorno le Terme del  Corallo\, a Gambassi Terme (Firenze) la villa I Cipressi con gli affreschi di Chini e De Carolis scoperti di  recente\, mentre a Varese il Grand Hotel Campo dei Fiori.  \nTra le mete più ambite dei vari tour si segnalano:  \nVilla Faccanoni\, Passeri e Surre a Sarnico\, Palazzo Castiglioni a Milano\, villa Galimberti a Stresa\, villa Zanelli a  Savona\, villa Rosa a Altare\, Casa Viviani a Trieste\, villa Conti a Civitanova Marche\, villa Castelli e Palazzo Re  a Giulianova\, villa Magrini a Cesenatico\, villa Alverà al Lido di Venezia\, villa Lydia a Viserba\, villino Florio a  Palermo\, villa Miranda a Catania\, villa Serafini a Riccione\, villa Galimberti a Stresa\, Casa Corigliano a Reggio  Calabria\, villino Lampredi a Firenze\, villa Cerrano a Santa Marinella\, villino Ximenes a Roma\, Museo di Arte  Povera a Sogliano sul Rubicone e tanti altri siti.  \n» L’evento più innovativo del programma è il tour “Urbex experience“: si visitano le ville e palazzi Art  Nouveau abbandonati più belli al mondo.  \nUn’esperienza unica volta all’avventura urbex\, dove scoprire i 10 siti abbandonati di rara accessibilità.  Segue l’esperienza dell’arte funeraria nei cimiteri monumentali di Torino\, Milano\, Staglieno e Udine con le  opere di Raimondo D’Aronco.  \nCome ribadisce Andrea Speziali: “Il fine dell’iniziativa è anche quello di avvicinare i giovani sensibilizzandoli  alla bellezza\, fuori dallo schermo di uno smartphone. Riuscire a creare un dialogo anche con il fruitore  comune rispetto la corrente artistica Art Nouveau.   \nPer questo l’associazione Italia Liberty ha trovato modalità coinvolgenti\, che rendono il partecipante  protagonista dell’evento\, non solo spettatore. Con l’Art Nouveau Week è un passo verso un risultato di  quello che è la mia idea di Turismo Culturale. Guardando l’esempio di Barcellona da traghettare in Italia”. \n  \nUna parte degli eventi organizzati appositamente per la Settimana dell’Art Nouveau si svolgeranno\, anche in  periodi più lunghi\, come il concorso fotografico Best LibertyCity. Su un periodo più lungo si articoleranno  anche Mostre organizzate da enti diversi:   \n“Femmes 1900. La donna Art Nouveau” presso la Galleria Harry Bertoia di Pordenone; “Art Nouveau. il  trionfo della bellezza” alla Reggia di Venaria a Torino\, “Isabora Duncan e le arti figurative in Italia tra  Ottocento e Avanguardia” alla villa e Museo Bardini di Firenze\, “Melticovitz. L’arte del desiderio”\, “Donne  in Liberty” a Romano Canavese\, “Liberty Mon Amour. Appunti di viaggio nella Belle Époque” a Varese e  “Il villino Liberty. Progetti e decori” allo Spazio Espositivo Italia Liberty.  \nLa Settimana dell’Art Nouveau è organizzata in sinergia con la community Facebook “Art Nouveau around the  world“\, un club formato da appassionati dello stile e finalizzato al censimento\, divulgazione e scambio di  opinioni sulle varie correnti artistiche quali Jugendstil\, Modernismo\, Liberty e Secessioni.  \nSarà possibile fotografare\, filmare e condividere nella rete di The World Art Nouveau tutta l’esperienza che gli  organizzatori di Art Nouveau Week hanno pensato e organizzato.   \nIl premio “Best Liberty City” porterà alla designazione della miglior città Liberty italiana e valorizzerà gli scatti  più apprezzati dalla giuria.  \nAlcune delle località dove seguire itinerari guidati all’insegna dell’Art Nouveau suddivise per Regioni: LOMBARDIA – Milano\, Lodi\, Varese\, Colmegna\, Busto Arsizio\, Gallarate\, Valganna\, Cernobbio\, Brunate\,  Casalmaggiore\, San Pellegrino Terme\, Sarnico\, Treviglio\, Vigevano\, Pavia\, Laveno\, Como\, Monza-Brianza\,  Lodi\, Pavia\, Mantova\, Brescia  \nPIEMONTE – Torino\, Stresa\, Baveno\, Verbania\, Arona\, Cuneo\, Novara\, Novi Ligure\, Cuneo\, Vercelli\,  Alessandria  \nLIGURIA – Savona\, Genova\, Imperia\, Monterosso\, Noli\, Altare\, La Spezia\, Rapallo  \nEMILIA-ROMAGNA – Bologna\, Reggio-Emilia\, Modena\, Carpi\, Parma\, Piacenza\, San Felice sul Panaro\,  Salsomaggiore\, Correggio\, Faenza\, Ferrara\, Forlì\, Ravenna\, Cesenatico\, Massa Lombarda\, Cervia – Milano  Marittima\, Riccione\, Rimini\, Cesena  \nVENETO – Lido di Venezia\, Vicenza\, Padova\, Rovigo\, Verona\,  \nFRIULI VENEZIA GIULIA – Trieste\, Udine  \nTOSCANA – Firenze\, Calenzano\, Lucca\, Grosseto\, Siena\, Livorno\, Viareggio\, Pistoia\, Follonica\, Cecina MARCHE – Pesaro\, Civitanova Marche\, Giulianova\, Castelferretti\, Falconara\, Fano\, Senigallia\, Ancona\, ABRUZZO – Sulmona  \nUMBRIA – Perugia\, Foligno\,  \nLAZIO – Roma\, Fiuggi\, Anzio\, Santa Marinella  \nCAMPANIA – Napoli  \nBASILICATA – Melfi  \nPUGLIA– Bari\, Galatone\, Lecce\, Nardò\, Bisceglie  \nSICILIA – Palermo\, Catania\, Canicattì\, Mondello\, Messina\, Licata\, Sciacca  \nSARDEGNA – Sassari\, Oristano  \nEstero: Vienna\, Bellinzona\, Londra\, Parigi\, Barcellona\, Bruxelles\, Riga\, Praga\, Budapest\, Glasgow\, Nancy\,  Darmstadt\, Helsinki\, Cuba.  \nApprofondimenti sul calendario dell’Art Nouveau Week tramite l’evento Facebook.  \nComunicatoStampa_artnouveauweek2019 \nItinerariepercorsi_ArtNouveauweek2019 \nElenco_edifici_apertialpubblico_ArtNouveauweek2019 \nwww.italialiberty.it | info@italialiberty.it | +(39) 320 0445798  \nSocial: #artnouveauweek #theworldartnouveau | Facebook . Instagram . Twitter » SCARICA IL MATERIALE STAMPA bit.ly/2PDIDoj «
URL:https://italialiberty.it/evento/art-nouveau-week-edizione-2019/
CATEGORIES:Art Nouveau Week 2019
ATTACH;FMTTYPE=image/jpeg:https://italialiberty.b-cdn.net/2025/06/Locandina_ArtNouveauWeek_2019.jpg
ORGANIZER;CN="Italia Liberty":MAILTO:info@italialiberty.it
END:VEVENT
END:VCALENDAR