BEGIN:VCALENDAR
VERSION:2.0
PRODID:-//Italia Liberty - ECPv6.15.20//NONSGML v1.0//EN
CALSCALE:GREGORIAN
METHOD:PUBLISH
X-WR-CALNAME:Italia Liberty
X-ORIGINAL-URL:https://italialiberty.it
X-WR-CALDESC:Eventi per Italia Liberty
REFRESH-INTERVAL;VALUE=DURATION:PT1H
X-Robots-Tag:noindex
X-PUBLISHED-TTL:PT1H
BEGIN:VTIMEZONE
TZID:Europe/Rome
BEGIN:DAYLIGHT
TZOFFSETFROM:+0100
TZOFFSETTO:+0200
TZNAME:CEST
DTSTART:20230326T010000
END:DAYLIGHT
BEGIN:STANDARD
TZOFFSETFROM:+0200
TZOFFSETTO:+0100
TZNAME:CET
DTSTART:20231029T010000
END:STANDARD
BEGIN:DAYLIGHT
TZOFFSETFROM:+0100
TZOFFSETTO:+0200
TZNAME:CEST
DTSTART:20240331T010000
END:DAYLIGHT
BEGIN:STANDARD
TZOFFSETFROM:+0200
TZOFFSETTO:+0100
TZNAME:CET
DTSTART:20241027T010000
END:STANDARD
BEGIN:DAYLIGHT
TZOFFSETFROM:+0100
TZOFFSETTO:+0200
TZNAME:CEST
DTSTART:20250330T010000
END:DAYLIGHT
BEGIN:STANDARD
TZOFFSETFROM:+0200
TZOFFSETTO:+0100
TZNAME:CET
DTSTART:20251026T010000
END:STANDARD
END:VTIMEZONE
BEGIN:VEVENT
DTSTART;TZID=Europe/Rome:20240701T230000
DTEND;TZID=Europe/Rome:20240701T235500
DTSTAMP:20260426T055950
CREATED:20240623T184906Z
LAST-MODIFIED:20251126T151553Z
UID:10000131-1719874800-1719878100@italialiberty.it
SUMMARY:Presentazione della sesta edizione di Art Nouveau week
DESCRIPTION:Attraverso TikTok il curatore e ideatore del festival Art Nouveau week\, Andrea Speziali presenterà il programma della sesta edizion: \nhttps://www.tiktok.com/live/event/7382254345315713057?enter_from=anchor \n\n			\n				\n			\n				\n				Locandina Art Nouveau week
URL:https://italialiberty.it/evento/presentazione-della-sesta-edizione-di-art-nouveau-week/
LOCATION:Online\, Italia
CATEGORIES:Art Nouveau Week 2024
ORGANIZER;CN="Italia Liberty":MAILTO:info@italialiberty.it
END:VEVENT
BEGIN:VEVENT
DTSTART;VALUE=DATE:20240708
DTEND;VALUE=DATE:20240715
DTSTAMP:20260426T055950
CREATED:20241203T211349Z
LAST-MODIFIED:20251126T151553Z
UID:10000132-1720396800-1721001599@italialiberty.it
SUMMARY:Art Nouveau Week: Edizione 2024
DESCRIPTION:Dall’8 al 14 luglio in tutta Europa torna l’Art Nouveau Week\, la settimana internazionale dedicata alla corrente culturale e artistica di inizio Novecento nelle sue più molteplici espressioni. \nIn questa sesta edizione\, le attività sono promosse e in parte organizzate dall’Associazione Italia Liberty e curate da Andrea Speziali insieme a un comitato scientifico e d’onore di rilievo.\nUn palinsesto di appuntamenti\, tra visite guidate\, convegni e grandi tour. \nFilo conduttore dell’edizione 2024 è la felicità. \nNell’immagine coordinata campeggia un’illustrazione di Ver Sacrum con il ritratto sorridente di una donna e viene riportato il logo di Art Nouveau week con un fondale che raffigura il celebre affresco di Ettore De Maria Bergler a villa Igiea di Palermo. Il logo del festival cambia colore a ogni edizione a seconda del tema scelto. \nA Palermo oltre alle visite guidate programmate alla mattina nelle giornate di giovedì 11\, sabato 13 e domenica 14 luglio in città alla scoperta degli edifici con decorazioni moderniste è in programma il ciclo di conferenze “L’architettura e le Arti a Palermo nel periodo Liberty” suddiviso in tre giornate in diversi luoghi: dal celebre ed esclusivo Hôtel Villa Igiea (12 luglio ore 15:30) alla sala della sede Confcommercio che ha patrocinato il festival (10 luglio ore 15:30) fino al Museo Archeologico Regionale Antonino Salinas (13 luglio ore 9:30). \nUn ciclo di conferenze che vede la partecipazione di un nutrito gruppo di studiosi dell’arte e dell’architettura Liberty in Sicilia (fra cui Lelia Collura\, Veronica De Maria\, Silvana Lo Giudice\, Eliana Mauro\, Anna Maria Ruta\, Ettore Sessa\, Andrea Speziali e altri). Le sezioni tematiche riguarderanno: i luoghi deputati ai rituali propri della “Société du plaisir”; l’affermarsi di un “modo” palermitano nel campo delle arti decorative e industriali; i luoghi per un rinnovato sentimento religioso e i luoghi per un’educazione scolastica di qualità; le variabili palermitane del rinnovamento artistico Art Nouveau. Tutte le quattro giornate sono a ingresso libero. \nLe visite guidate includeranno l’accesso a circa 100 edifici fruibili al pubblico che solitamente non sono accessibili\, e testimoniano una mostra a cielo aperto\, 40 percorsi di visite guidate giornaliere fino a sette giorni in tutta Europa e un solo convegno sulla corrente artistica dell’Art Nouveau a Palermo\, città capofila di questa edizione. \nA Catania appuntamento straordinario a villa Ardizzone – Spazio Liberty che apre i cancelli al pubblico martedì 9 luglio alle 19:00 e giovedì 11 luglio alle 19:00 con una visita guidata all’interno della dimora di proprietà della famiglia Ardizzone che ha concesso in esclusiva questa opportunità. \nQuest’anno i Musei Civici di Monza per giovedì 11 luglio\, giorno della ricorrenza dalla nascita dell’architetto lombardo Giuseppe Sommaruga\, hanno programmato una visita guidata per far scoprire i protagonisti di uno stile floreale tutto monzese. Partendo dalle opere esposte in museo e a seguire la visita tra gli edifici del centro storico in stile Liberty. \nMilano si rivela la capitale del Liberty per le opere di Giuseppe Sommaruga\, protagonista della stagione Modernista in Italia. I percorsi organizzati da Italia Liberty in collaborazione con Scoprire Milano propongono con le guide arch. Marta Candiani\, arch. Monica Torri e storico dell’arte Boris Stupia\, la visita a Palazzo Castiglioni con le facciate appena  restaurate e tornate a risplendere nella loro originalità materica e decorativa con possibilità di accedere  agli interni rimasti in parte originali; una passeggiata tra esempi di architetture Liberty per terziario e commerciale in centro\, la Stazione Centrale tra Liberty e Deco’\, la città ideale  di Crespi d’Adda tra storicismo e Liberty\, la Casa Campanini con la visita di androne\, cortile e scale\, infine la farmacia S.Teresa e la Villa Romeo Faccanoni di Sommaruga con numerosi edifici residenziali tra storicismo\, eclettismo e liberty in zona Porta Vercellina. \nAll’Aquila continua l’appuntamento alla scoperta dell’arte Liberty con sei eventi\, organizzati da Sara Santella\, tra le consuete passeggiate al cimitero monumentale e in centro storico\, la collaborazione con lo storico Bar Nurzia e altre realtà locali\, convegni sul cinema e sulla donna nella Belle Époque e il cocktail tematico ispirato all’Art Nouveau. \nIn Puglia si segnalano le visite guidate condotte dalla guida Maria Elena Toto per conoscere da vicino gli esempi di quella stagione floreale che ha decorato la città di Bari tra pietre e pitture. \nA Savona continuano le visite guidate e le aperture al pubblico gestite da Kalatà dopo un accurato restauro conservativo di villa Zanelli a Savona che dopo vent’anni di degrado torna a splendere come una fenice. \nIn Sardegna si riscopre lo stile Liberty con tre appuntamenti nella città di Sassari. Con l’auspicio di valorizzare ogni aspetto sociale e culturale del Liberty\, L’Associazione Culturale Quiteria in accordo con Italia Liberty\, propone a Sassari tre appuntamenti insoliti: l’evento di apertura è dedicato alla moda e alla creatività femminile in Italia  tra Liberty e Déco ed approfondirà il percorso artistico e sociale di due protagoniste del Made in Italy\, la stilista ed attivista Rosa Genoni e la creativa Luisa Spagnoli. \nIl secondo appuntamento avrà luogo presso il Cimitero Monumentale della città e sarà una passeggiata culturale alla riscoperta dei più prestigiosi monumenti funebri in stile Liberty\, della loro storia e delle caratteristiche artistiche che li contraddistinguono. \nL’ultimo incontro sarà dedicato alla letteratura: nella splendida cornice dello storico  Parco di Monserrato\, l’associazione culturale Quiteria offrirà l’occasione di ascoltare e/o leggere brani scelti tratti dalla letteratura italiana ed internazionale del periodo Liberty. L’incontro si svolgerà al tramonto\, sarà caratterizzato dall’allestimento di un’ambientazione a tema e i partecipanti dovranno attenersi ad un dress code: tutti coloro che interverranno\, anche i semplici spettatori\, dovranno indossare abiti bianchi. Tutti gli appuntamenti saranno ad ingresso libero. \nLunedì 8 luglio alle 18:30\, la conferenza “Da Rosa Genoni a Luisa Spagnoli: percorsi di creatività ed emancipazione femminile tra Liberty e Déco” a cura della prof.ssa  Maria Rita Piras presso Casa Dau dove si potrà fruire di un’esposizione di abiti ed accessori d’epoca a cura della collezionista  prof.ssa Laura Lanza  ed esibizione al pianoforte del Maestro Luca Sirigu. \nMartedì 9 luglio alle 17:45\, la passeggiata culturale “Art Nouveau: sentimento ed ispirazione poetica nell’arte funeraria del cimitero monumentale di Sassari” a cura di Maria Rita Piras\, Laura Lanza e Fabrizio Vanali. \nMercoledì 10 luglio alle 18:00 sono previste letture del periodo Liberty in abito bianco con ricostruzione di atmosfere d’epoca organizzate dall’Associazione Quiteria. \nIn Romagna aprono i Musei di Arte Povera e del Disco d’Epoca all’interno di Palazzo Ripa-Marcosanti a Sogliano al Rubicone (Forlì-Cesena) dove è possibile partecipare gratuitamente alle visite guidate per coppie e gruppi previa richiesta di prenotazione. \nA Rimini si terranno visite guidate durante la settimana alla scoperta del Liberty\, come le sculture di Agostino di Duccio sul Tempio Malatestiano\, un vero e proprio mausoleo. Angeli musicanti e putti che si stagliano contro il fondo azzurro\, disegnati da linee elastiche e melodiose\, ispirati a un soave edonismo\, sembrano fatti apposta per essere tradotti in maiolica o in affresco per il decoro di stabilimenti termali o di grandi alberghi della Belle Époque. Proprio il Liberty viene associato a quello che i francesi chiamano “Coup de fouet” carattere distintivo del Liberty\, primato di una linea a colpo di frusta\, sinuosa\, capricciosa\, nervosa o sferzante che rinveniamo in più esempi comuni ad opere di Mucha\, Guimard\, Klimt\, Bistolfi e tanti altri autori i cui lavori saranno mostrati dalle guide di tutta Europa durante il festival. \nSarà prodotto anche il catalogo di ART NOUVEAU WEEK 2024 con all’interno nuovi rinvenimenti scientifici sul Liberty come le pitture di Ettore de Maria Bergler e le tavole di Ernesto Basile insieme al censimento straordinario di tutti gli edifici Art Nouveau presenti al mondo\, circa 14.100 con un elenco più aggiornato rispetto al precedente catalogo. Un lavoro senza precedenti che il curatore Andrea Speziali ha portato avanti in sedici anni di studi. Nel documento vengono elencati anche quegli edifici che presentano solo tracce di piacevoli decorazioni Liberty\, secessioniste o Moderniste. \nIl calendario completo è consultabile su: https://bit.ly/42SGFVm \nOrganizzatori  \nIl Festival Art Nouveau Week è organizzato da Italia Liberty Associazione di promozione sociale –  ETS congiuntamente a un network di associazioni e istituzioni che offrono ai visitatori singoli o a gruppi di tutte le età l’opportunità di avvalersi di visite guidate che propongono stimolanti chiavi di lettura delle poetiche e dei linguaggi dell’arte contemporanea: si tratta del Touring Club Italiano\,  ConfGuide di Confcommercio\, GTI Guide Turistiche Italiane e\, alcune delegazioni del FAI Fondo Ambiente Italiano che permettono di valorizzare con professionalità e competenza il patrimonio storico artistico archeologico antropologico enogastronomico e paesaggistico dell’Italia. \nIn occasione di questo evento\, ITALIA LIBERTY punta anche su un ricco partenariato internazionale\, come nel caso del magazine Coup de Fouet. Art Nouveau European Route\, pioniere nella promozione dell’Art Nouveau e dell’Art Déco. \nBiglietti  \nEsistono diverse modalità per assicurarsi gli accessi alle attività per il Festival Art Nouveau Week. \nLe prenotazioni per le visite di gruppo si possono effettuare a partire da inizio giugno direttamente sulla pagina www.italialiberty.it \nLa maggior parte delle visite guidate è disponibile in italiano e su richiesta in altre lingue. \nI visitatori individuali possono prenotare dei pacchetti che comprendono visite guidate a raccolta a orari prestabiliti. Questi sono disponibili a partire dalla fine del  mese di giugno\, sempre allo stesso indirizzo: www.italialiberty.it \nA partire dal mese di giugno\, è possibile effettuare prenotazioni organizzate “su misura” sul sito www.italialiberty.it\, scegliendo per conto proprio l’edificio\, il giorno e l’orario delle visite a cui si desidera partecipare. \nLa prenotazione anticipata permette di garantire la massima fluidità durante le visite guidate e di evitare la formazione di lunghe file d’attesa. \n\n			\n				\n			\n				\n				Locandina Art Nouveau week\n				\n			\n				\n			\n		\n\nPROGRAMMA \n1. CONVEGNO\n 2. GRANDI TOUR\n 3. VISITE GUIDATE  \n  \n\nCONVEGNO\n\nL’ARCHITETTURA E LE ARTI A PALERMO NEL PERIODO LIBERTY \nCiclo di conferenze in tre giornate a Palermo \n  \nPalermo 10.07.2024\, ore 15:30\nConfCommercio\, via Enrico Amari 11\, 9° piano\, Palermo – Sala Consiliare \nSaluti istituzionali \nPatrizia Di Dio\, Presidente Confcommercio Palermo \nGiampiero Cannella\, Vicesindaco della Città di Palermo \nPresentazione della manifestazione\nAndrea Speziali\nSette protagonisti del Liberty in una week votata alla bellezza \nRelazione introduttiva\nEttore Sessa\nI caratteri delle quattro età del Liberty a Palermo 1897-1923 \n  \nLa nuova moda della villeggiatura: modi e luoghi della cultura dell’abitare e dei rituali collettivi della città balneare di Mondello  \nIntroduzione \nVeronica De Maria \nEliana Mauro\nLa stazione turistica balneare di Mondello. Un impianto urbano ludico del periodo modernista \nLelia Collura\nStorie di borghigiani\, residenti e villeggianti nella Mondello della Bella Époque \n– \nPalermo 12.07.2024\, ore 15:30\nGrand Hôtel Villa Igiea\, via Belmonte n. 43\, Palermo – Salone degli specchi \nVariabili artistiche palermitane dell’istanza di riorganizzazione del visibile” dell’Art Nouveau \nIntroduzione \nAndrea Speziali \nVeronica De Maria\nDocumenti: Ettore De Maria Bergler \nNinni Enea\nDocumenti: Giuseppe Enea \nGuido Valdini\nDocumenti: i Gregorietti \nAnna Maria Ruta\nDocumenti: Aleardo Terzi \nEttore Sessa\nDocumenti: I Florio. Politica dell’immagine e istanze di rinascita nel diorama simbolico del «Salone degli specchi» del Grand Hôtel Villa Igiea a Palermo \n– \nPalermo 13.07.2024\, ore 9:30\nMuseo Archeologico Regionale Antonino Salinas\, via Bara all’Olivella n. 24\, Palermo – Sala Agorà \nSaluti istituzionali\nGiuseppe Parello\, Direttore del Museo Archeologico Regionale Antonino Salinas\, Palermo \nLuoghi di formazione per una nuova educazione al sentimento religioso e per una rinnovata qualità dell’istruzione nella Sicilia della Belle Époque \nIntroduzione \nEttore Sessa \nVirginia Bonura\nModelli per un rinnovamento liturgico in Sicilia 1873 – 1923: Cinquant’anni di architettura tra simbolismo e innovazione tecnologica \nSilvana Lo Giudice\nLa Chiesa Holy Cross: un tassello importante della storia della famiglia Ingham Whitaker in Sicilia \nMaria Stella Ingargiola\nL’architettura di qualità per l’infanzia nel Liberty siciliano \nL’architettura e le arti decorative e industriali a Palermo nel periodo Liberty \nIntroduzione \nVeronica De Maria \nEttore Sessa\nMobili e arredi degli «Stabilimenti Ducrot»: il binomio qualità-profitto nella cultura della produzione industriale d’eccellenza dell’Arte Nuova palermitana  \nFrancesca La Mattina\nErnesto Basile e l’unità delle arti negli allestimenti Ducrot della Biennale di Venezia \n  \n*** \nA Sassari due appuntamenti per scoprire il Liberty in Sardegna: \n  \n8 LUGLIO ORE 18.30  \nCASA DAU\, SEDE CORALE CANEPA\, VIA SANT’ANNA 3 \n  \nConferenza a cura di Maria Rita Piras  \n“Da Rosa Genoni a Luisa Spagnoli: percorsi di creatività ed emancipazione femminile tra Liberty e Déco“ \nEsposizione di abiti ed accessori d’epoca ed esibizione al pianoforte del Maestro Luca Sirigu  \n  \n10 LUGLIO ORE 18 \nLIBERTY READING AL PARCO DI MONSERRATO \nLetture Liberty (dal 1880 al 1920) in abito bianco con ricostruzione di atmosfere d’epoca.  \n  \nTUTTI GLI EVENTI SONO A INGRESSO LIBERO \nPuoi riservare il posto inviando mail o sms a info@italialiberty.it o +39 3200445798 \n  \n  \n\nGRANDI TOUR\n\n  \nI seguenti tour dalla durata minima di due giorni sono stati pensati da Italia Liberty e progettati insieme agli accompagnatori turistici abilitati Elsabieth Zerai e Andrea Speziali.\nL’organizzazione è a cura di Aneis viaggi un ente esterno all’associazione. \n\nIn evidenza \nTour “PUGLIA A TUTTO LIBERTY ED ECLETTISMO” Durata 5 giorni  \nTour “BRUXELLES. LINEE E FORME ART NOUVEAU” Durata 3 giorni  Programma \nTour “GAUDI. SULLA SCIA DEL MODERNISMO CATALANO” Durata 3 giorni  \nTour “MODERNISMO E NATURA A VALENCIA” Durata 3 giorni  \n\nTour “GIALLO SICILIANO. LUCI FLOREALI TRA BASILE\, FLORIO E GREGORIETTI” Durata 7 giorni\nTour “URBEX EXPERIENCE. ABBANDONO E OSCURITÀ” Durata 7 giorni \nTour “ROUTE 66. TRA I LAGHI DEL LIBERTY” Durata 7 giorni  \nTour “LIBELLULE LIGURI” Durata 6 giorni \nTour “UN TUFFO AL LIDO LIBERTY” Durata 4 giorni \nTour “SCANDALOSA LOMBARDIA” Durata 2 giorni \nTour “MARCHE NATURA E ARCHITETTURA. IMMERSI NEL VERDE LIBERTY” Durata 4 giorni\nTour “ESOTERICA TORINO” Durata 3 giorni.  \nTour “SOTTO IL SOLE DELLA ROMAGNA” Durata 7 giorni \nTout “A COUP DE FOUET. LA PARIGI EROTICA” Durata 5 giorni \nTour “LA SECESSIONE DI KLIMT TRA PITTURA E SCULTURA” Durata 5 giorni \nTour “MALTA CHE PASSIONE. COLORI LIBERTYSSIMI” Durata 7 giorni \nTour “MESSICO MODERNISTA” Durata 7 giorni \nTour “EGITTO. TRA SFINGI PIRAMIDI E ART NOUVEAU” Durata 7 giorni \nTour “LE GRAND LIBERTY LONDON” Durata 6 giorni \nTour “PRAGA MASSONICA” Durata 5 giorni   \nTour “GERMANIA JUGENDSTIL” Durata 6 giorni   \nTour “TIFFANY & LIBERTY DECO A NEW YORK CITY” Durata 7 giorni   \n  \n\nVISITE GUIDATE GIORNALIERE\n\n  \nAbbiamo suddiviso per regioni i nomi delle città dove si tengono le attività di visite guidate.  \nA fianco dei nomi delle città c’è l’orario e il link con i dettagli del programma e relativa prenotazione sul sito web www.italialiberty.it\nI percorsi sono in parte gratuiti\, a pagamento o a ingresso riservato ai soci e hanno durate differenti da 1 a 3 ore. Nella maggior parte delle attività è richiesta la tessera socio di Italia Liberty\, se non la si dispone è possibile fare domanda di iscrizione almeno tre giorni prima dell’evento.\nDove non è riportato il collegamento all’evento significa che l’attività in orario è già al completo o che è stata organizzata da un partner di rete esterno all’associazione. Alcune delle visite sono già complete per gruppi chiusi. \n  \nCALENDARIO \n  \nLUNEDÌ 8 LUGLIO 2024 \n  \nABRUZZO – Sulmona (ore 9:00)\, Teramo (ore 9:00)\, L’Aquila (ore 10:00)\nBASILICATA – Matera (ore 9:00) \nCALABRIA – Bova Marina e Reggio Calabria (ore 9:00) \nCAMPANIA – Napoli (ore 9:00) \nEMILIA-ROMAGNA – Rimini (ore 9:30)\, Riccione (ore 18:00) \nFRIULI VENEZIA GIULIA – Trieste (ore 9:00) \nLAZIO – Roma (ore 9:00) \nLIGURIA – La Spezia (ore 9:00) \nLOMBARDIA – Cernobbio (tutta la settimana) visite guidate a Villa Bernasconi. \nMARCHE – Pesaro (ore 21:00)\nMOLISE – Campobasso (ore 9:00) \nPIEMONTE – Torino (ore 16\,00) \nTOSCANA – Firenze (ore 19:00)\, Livorno (ore 20:00)\, Montecatini (ore 10:00) \nTRENTINO ALTO ADIGE – Bolzano (ore 9:00) \nUMBRIA – Perugia (ore 21:00) \nVAL D’AOSTA – Aosta (ore 9:00) \nVENETO – Lido di Venezia (ore 10:00) \n  \n(ESTERO)  \nBELGIO: Bruxelles (Visite guidate singole o in gruppo a Hotel Hannon) \nSPAGNA: Valencia \n  \nMARTEDÌ 9 LUGLIO 2024 \n  \nABRUZZO – Penne (ore 9:00) \nBASILICATA – Melfi (ore 9:00) \nFRIULI VENEZIA GIULIA – Trieste (ore 10:00) \nLAZIO – Roma (ore 9:00) \nLIGURIA – Savona (ore 9:00) \nLOMBARDIA – Cernobbio (ore 9:00)\, San Pellegrino Terme (ore 9:00) \nMARCHE – Civitanova Marche (ore 9:00)\, Giulianova (ore 11:00) \nPIEMONTE – Torino  (ore 9:00; ore 17:30)\, Stresa (ore 9:00)\, \nPUGLIA – Bari (ore 18:00)\, \nSARDEGNA – Sassari (ore 17:45) Passeggiata culturale “Art Nouveau: sentimento ed ispirazione poetica nell’arte funeraria del cimitero monumentale di Sassari” \nSICILIA – Catania (ore 19:00) Visita guidata a villa Ardizzone – Spazio Liberty \nTOSCANA – Firenze (ore 10:00)\, Livorno (ore 9:00)\, Viareggio (ore 21:00) \nTRENTINO ALTO ADIGE – Merano (ore 9:00 – 10:30) Merano (ore 11:00 – 12:30) \nVAL D’AOSTA – Gressoney-Saint-Jean (ore 11:00) \nVENETO – Lido di Venezia (ore 8:00) \n  \n(ESTERO) \nMALTA: Attard\, Gzira\, Marsa \n  \nMERCOLEDÌ 10 LUGLIO 2024 \n  \nABRUZZO – Guardiagrele (ore 9:00) \nCALABRIA – Cittanova (ore 9:00) \nCAMPANIA – Napoli (ore 10:00) \nEMILIA-ROMAGNA – Bologna (ore 9:00) \nLIGURIA – Noli (ore 9:00) \nLOMBARDIA – Cernobbio (ore 9:00) \nMARCHE – Giulianova (ore 11:00) \nPIEMONTE – Torino (ore 9:30)\, Cuneo (ore 9:00)\, Biella (ore 16:30) \nPUGLIA – Acquaviva delle Fonti (ore 9:00) \nSICILIA – Palermo (ore 9:30) Visita guidata “La grande borghesia di fine 800: i Whitaker e i Florio” \nIl tour prevede la visita a due o tre delle più belle residenze di fine 800: Villino Florio all’Olivuzza e Villa Whitaker\, antica residenza di una delle più ricche famiglie inglesi della città.  \nNel pomeriggio il tour potrà essere completato con la visita dello splendido hotel Villa Igea*\, famoso per la sua bellissima Sala Basile\, capolavoro liberty e per le sue scenografiche terrazze.  \n*Per grp superiori a 7 pax il costo della visita di Villa Igea è di circa 30\,00 a persona con rinfresco in terrazza incluso. \nIl tour proposto ha una durata di circa 3h e 30 min o una durata maggiore ​(circa ​7h​)​ nel caso in cui si decida di inserire anche l’hotel Villa Igea. Biglietti esclusi.  \nIl tour può essere richiesto tutti i giorni\, di mattina\, tranne Domenica e Lunedì.  \nInfo e prenotazioni: palermo@italialiberty.it  \nTOSCANA – Siena (ore 18:00) \nUMBRIA – Foligno (ore 9:00) \nVENETO – Vicenza (ore 10:00) \n  \n(ESTERO)  \nSPAGNA: Barcellona \n  \nGIOVEDÌ 11 LUGLIO 2024 \n  \nCALABRIA – Reggio Calabria (ore 9:00) \nCAMPANIA – Salerno (ore 9:00) \nEMILIA-ROMAGNA – Ravenna (ore 9:00) \nLIGURIA – Monterosso (ore 9:00) \nLOMBARDIA – Monza (21:00) visita guidata dai Musei Civici agli edifici Liberty in città\nMilano (ore 19:00) visita guidata “IL VILLAGGIO OPERAIO di CRESPI D’ADDA (BG): città ideale\, tra mondo contadino e nuova realtà industriale” \nMARCHE – Castelferretti (ore 9:00) \nPIEMONTE – Novara (ore 9:00) \nSICILIA – Catania (ore 19:00) Visita guidata a villa Ardizzone – Spazio Liberty \nTOSCANA – Grosseto (ore 9:00) \nTRENTINO ALTO ADIGE – Rovereto (ore 18:00)\nUMBRIA – Città di Castello (ore 9:00) \nVENETO – Padova (ore 9:00) \n  \n(ESTERO)  \nSPAGNA: Valencia \n  \nVENERDÌ 12 LUGLIO 2024 \n  \nBASILICATA – Melfi (ore 9:00) \nCALABRIA – Reggio Calabria (ore 9:00) \nCAMPANIA – Napoli (ore 9:00) \nEMILIA-ROMAGNA – Modena (ore 18:00)\, Forlì (ore 18:00)\,  \nFRIULI VENEZIA GIULIA – Udine (ore 9:00) \nLAZIO – Anzio (ore 9:00) \nLIGURIA – Imperia (ore 9:00) \nLOMBARDIA – Milano (ore 10:30) Visita guidata “LA STAZIONE CENTRALE di MILANO e I SUOI DINTORNI: tra echi Liberty e grazie Decò”\nMilano (ore 18:00) Visita guidata “IL LIBERTY NEL CUORE DI MILANO: non solo residenza” \nMARCHE – Falconara (ore 9:00) \nMOLISE – Campobasso (ore 9:00) \nPIEMONTE – San Giorgio Canavese (ore 9:00) \nPUGLIA – Lecce (ore 9:00) \nSICILIA – Palermo (9:30) Visita guidata “I Basile e il Liberty a Palermo” \nL’itinerario si snoda tra il centro storico di Palermo e le residenze borghesi della Via Dante. Si visiteranno il Villino Favarolo\, oggi museo della fotografia di Palermo e il Villino Florio\, capolavoro del Liberty siciliani. \nNel pomeriggio (su richiesta): visita di Palazzo Francavilla per ammirare la bellissima libreria Liberty di Ernesto Basile e il Teatro Massimo di Palermo (solo esterno). Biglietti esclusi. \nInfo e prenotazioni: palermo@italialiberty.it  \nTOSCANA – Cecina (ore 9:00) \nVENETO – Rovigo (ore 9:00) \n  \nSABATO 13 LUGLIO 2024 \n  \nABRUZZO – Lanciano (ore 9:00) \nEMILIA-ROMAGNA – Sogliano al Rubicone visita al Museo di Arte Povera e Disco d’Epoca (orario e ingresso personalizzato)\,  \nFRIULI VENEZIA GIULIA – Gorizia (ore 9:00) \nLAZIO – Cave (ore 9:00) \nLIGURIA – Genova (ore 9:00) \nLOMBARDIA – Milano (10:30) Visita guidata “IL LIBERTY A PORTA VENEZIA a MILANO: alta borghesia\, bagni pubblici e floreale”  \nMARCHE – Fano (ore 9:00)\nMOLISE – Venafro (ore 9:00) \nPIEMONTE – Vercelli (ore 9:00)\, Stresa (programma) \nPUGLIA – Bari (ore 9:00) \nTOSCANA –  Lucca (ore 9:00) \nTRENTINO ALTO ADIGE – Levico (ore 9:00)\nUMBRIA – Marsciano (ore 9:00) \nVENETO – Verona (ore 9:00) \nPROVINCIA AUTONOMA DI TRENTO E BOLZANO – Castelrotto (ore 9:00) \n  \n(ESTERO)  \nFRANCIA: Nancy (Visite guidate a villa Majorelle)\, Bordeaux \nSPAGNA: Barcellona \n  \nDOMENICA 14 LUGLIO 2024 \n  \nEMILIA-ROMAGNA – Sogliano al Rubicone visita al Museo di Arte Povera e Disco d’Epoca (orario e ingresso personalizzato)\,  \nLAZIO – Santa Marinella (ore 9:00) \nLIGURIA – Savona (ore 9:00) \nLOMBARDIA – Milano (ore 10:30) Visita guidata “IL LIBERTY a PORTA VERCELLINA a MILANO: la borghesia si trasferisce in periferia” \nMARCHE – Senigallia (ore 9:00) \nPIEMONTE – Stresa (programma) \nPUGLIA – Galatone (ore 9:00) \nSICILIA – Palermo (Fondazione Thule su prenotazione) \nTOSCANA – Firenze (ore 9:00) \nUMBRIA – Perugia  (ore 9:00)\nVENETO – Venezia (ore 9:00) \nPROVINCIA AUTONOMA DI TRENTO E BOLZANO – Merano (ore 9:00) \n  \n  \n  \n 
URL:https://italialiberty.it/evento/art-nouveau-week-edizione-2024/
CATEGORIES:Art Nouveau Week 2024
ATTACH;FMTTYPE=image/jpeg:https://italialiberty.b-cdn.net/2024/12/Locandina_ArtNouveauWeek_2024.jpg
ORGANIZER;CN="Italia Liberty":MAILTO:info@italialiberty.it
END:VEVENT
END:VCALENDAR