BEGIN:VCALENDAR
VERSION:2.0
PRODID:-//Italia Liberty - ECPv6.15.20//NONSGML v1.0//EN
CALSCALE:GREGORIAN
METHOD:PUBLISH
X-WR-CALNAME:Italia Liberty
X-ORIGINAL-URL:https://italialiberty.it
X-WR-CALDESC:Eventi per Italia Liberty
REFRESH-INTERVAL;VALUE=DURATION:PT1H
X-Robots-Tag:noindex
X-PUBLISHED-TTL:PT1H
BEGIN:VTIMEZONE
TZID:Europe/Rome
BEGIN:DAYLIGHT
TZOFFSETFROM:+0100
TZOFFSETTO:+0200
TZNAME:CEST
DTSTART:20250330T010000
END:DAYLIGHT
BEGIN:STANDARD
TZOFFSETFROM:+0200
TZOFFSETTO:+0100
TZNAME:CET
DTSTART:20251026T010000
END:STANDARD
BEGIN:DAYLIGHT
TZOFFSETFROM:+0100
TZOFFSETTO:+0200
TZNAME:CEST
DTSTART:20260329T010000
END:DAYLIGHT
BEGIN:STANDARD
TZOFFSETFROM:+0200
TZOFFSETTO:+0100
TZNAME:CET
DTSTART:20261025T010000
END:STANDARD
BEGIN:DAYLIGHT
TZOFFSETFROM:+0100
TZOFFSETTO:+0200
TZNAME:CEST
DTSTART:20270328T010000
END:DAYLIGHT
BEGIN:STANDARD
TZOFFSETFROM:+0200
TZOFFSETTO:+0100
TZNAME:CET
DTSTART:20271031T010000
END:STANDARD
END:VTIMEZONE
BEGIN:VEVENT
DTSTART;TZID=Europe/Rome:20260709T100000
DTEND;TZID=Europe/Rome:20260709T120000
DTSTAMP:20260422T004745
CREATED:20251125T093419Z
LAST-MODIFIED:20251126T151427Z
UID:10000235-1783591200-1783598400@italialiberty.it
SUMMARY:Un nuovo volto dalla città vecchia alla nascita del Borgo Umbertino
DESCRIPTION:Taranto (ore 19:00) “Un nuovo volto dalla città vecchia alla nascita del Borgo Umbertino”\nL’associazione Italia Liberty ha organizzato una visita guidata dedicata alla scoperta del volto modernista e umbertino di Taranto\, un percorso che ci accompagnerà alla lettura dell’espansione urbana avvenuta tra la fine dell’Ottocento e i primi del Novecento. Partiremo dal ponte girevole\, sul lato di Corso Due Mari\, punto simbolico da cui cominceremo a ripercorrere le tappe che\, oltrepassando Porta Lecce\, hanno portato alla definizione della maglia regolare del Borgo Umbertino\, cuore della città moderna. Lungo l’itinerario avremo modo di ammirare alcuni dei più significativi palazzi in stile liberty che si affacciano sull’asse via d’Aquino – piazza Maria Immacolata\, esempi eleganti di un gusto architettonico raffinato che ha segnato l’identità cittadina nel passaggio tra i due secoli. Decorazioni floreali\, balconate in ferro battuto\, volumi equilibrati e nuovi linguaggi stilistici accompagneranno la nostra passeggiata\, svelando un patrimonio ricco e spesso poco conosciuto.\nIl percorso si concluderà presso il Villino Protopapa\, ultima testimonianza ancora visibile delle numerose ville residenziali che un tempo punteggiavano il borgo e che furono realizzate dalla facoltosa borghesia tarantina di fine Ottocento. Un piccolo gioiello architettonico sopravvissuto al tempo e alle trasformazioni urbane\, che ci permetterà di comprendere appieno l’atmosfera elegante e innovativa di quell’epoca. Un viaggio nel cuore della Taranto liberty\, tra storia\, urbanistica e bellezza architettonica.\nLuogo di incontro: Piazza Castello\nDurata: 2 ore\nCosti: 20€ (Per i soci di Italia Liberty e Touring Club Italiano il costo è di 18€) Minimo 8 partecipanti per effettuare il percorso\nGuide turistiche abilitate: Lucia Sardi e Rosanna Vicinanza\nPrenotazioni: luciasardi@italialiberty.it | (+39) 338 4372698; rosannavicinanza@italialiberty.it | (+39) 366 9073214
URL:https://italialiberty.it/evento/un-nuovo-volto-dalla-citta-vecchia-alla-nascita-del-borgo-umbertino/2026-07-09/
CATEGORIES:Art Nouveau Week 2026
ORGANIZER;CN="Italia Liberty":MAILTO:info@italialiberty.it
END:VEVENT
BEGIN:VEVENT
DTSTART;TZID=Europe/Rome:20260714T100000
DTEND;TZID=Europe/Rome:20260714T120000
DTSTAMP:20260422T004745
CREATED:20251125T093419Z
LAST-MODIFIED:20251126T151427Z
UID:10000236-1784023200-1784030400@italialiberty.it
SUMMARY:Un nuovo volto dalla città vecchia alla nascita del Borgo Umbertino
DESCRIPTION:Taranto (ore 19:00) “Un nuovo volto dalla città vecchia alla nascita del Borgo Umbertino”\nL’associazione Italia Liberty ha organizzato una visita guidata dedicata alla scoperta del volto modernista e umbertino di Taranto\, un percorso che ci accompagnerà alla lettura dell’espansione urbana avvenuta tra la fine dell’Ottocento e i primi del Novecento. Partiremo dal ponte girevole\, sul lato di Corso Due Mari\, punto simbolico da cui cominceremo a ripercorrere le tappe che\, oltrepassando Porta Lecce\, hanno portato alla definizione della maglia regolare del Borgo Umbertino\, cuore della città moderna. Lungo l’itinerario avremo modo di ammirare alcuni dei più significativi palazzi in stile liberty che si affacciano sull’asse via d’Aquino – piazza Maria Immacolata\, esempi eleganti di un gusto architettonico raffinato che ha segnato l’identità cittadina nel passaggio tra i due secoli. Decorazioni floreali\, balconate in ferro battuto\, volumi equilibrati e nuovi linguaggi stilistici accompagneranno la nostra passeggiata\, svelando un patrimonio ricco e spesso poco conosciuto.\nIl percorso si concluderà presso il Villino Protopapa\, ultima testimonianza ancora visibile delle numerose ville residenziali che un tempo punteggiavano il borgo e che furono realizzate dalla facoltosa borghesia tarantina di fine Ottocento. Un piccolo gioiello architettonico sopravvissuto al tempo e alle trasformazioni urbane\, che ci permetterà di comprendere appieno l’atmosfera elegante e innovativa di quell’epoca. Un viaggio nel cuore della Taranto liberty\, tra storia\, urbanistica e bellezza architettonica.\nLuogo di incontro: Piazza Castello\nDurata: 2 ore\nCosti: 20€ (Per i soci di Italia Liberty e Touring Club Italiano il costo è di 18€) Minimo 8 partecipanti per effettuare il percorso\nGuide turistiche abilitate: Lucia Sardi e Rosanna Vicinanza\nPrenotazioni: luciasardi@italialiberty.it | (+39) 338 4372698; rosannavicinanza@italialiberty.it | (+39) 366 9073214
URL:https://italialiberty.it/evento/un-nuovo-volto-dalla-citta-vecchia-alla-nascita-del-borgo-umbertino/2026-07-14/
CATEGORIES:Art Nouveau Week 2026
ORGANIZER;CN="Italia Liberty":MAILTO:info@italialiberty.it
END:VEVENT
END:VCALENDAR