BEGIN:VCALENDAR
VERSION:2.0
PRODID:-//Italia Liberty - ECPv6.15.20//NONSGML v1.0//EN
CALSCALE:GREGORIAN
METHOD:PUBLISH
X-WR-CALNAME:Italia Liberty
X-ORIGINAL-URL:https://italialiberty.it
X-WR-CALDESC:Eventi per Italia Liberty
REFRESH-INTERVAL;VALUE=DURATION:PT1H
X-Robots-Tag:noindex
X-PUBLISHED-TTL:PT1H
BEGIN:VTIMEZONE
TZID:Europe/Rome
BEGIN:DAYLIGHT
TZOFFSETFROM:+0100
TZOFFSETTO:+0200
TZNAME:CEST
DTSTART:20250330T010000
END:DAYLIGHT
BEGIN:STANDARD
TZOFFSETFROM:+0200
TZOFFSETTO:+0100
TZNAME:CET
DTSTART:20251026T010000
END:STANDARD
BEGIN:DAYLIGHT
TZOFFSETFROM:+0100
TZOFFSETTO:+0200
TZNAME:CEST
DTSTART:20260329T010000
END:DAYLIGHT
BEGIN:STANDARD
TZOFFSETFROM:+0200
TZOFFSETTO:+0100
TZNAME:CET
DTSTART:20261025T010000
END:STANDARD
BEGIN:DAYLIGHT
TZOFFSETFROM:+0100
TZOFFSETTO:+0200
TZNAME:CEST
DTSTART:20270328T010000
END:DAYLIGHT
BEGIN:STANDARD
TZOFFSETFROM:+0200
TZOFFSETTO:+0100
TZNAME:CET
DTSTART:20271031T010000
END:STANDARD
END:VTIMEZONE
BEGIN:VEVENT
DTSTART;TZID=Europe/Rome:20260709T100000
DTEND;TZID=Europe/Rome:20260709T120000
DTSTAMP:20260425T012417
CREATED:20251216T195907Z
LAST-MODIFIED:20260310T144459Z
UID:10000278-1783591200-1783598400@italialiberty.it
SUMMARY:Modernismo calabrese. La rinascita elegante del primo Novecento
DESCRIPTION:Reggio Calabria (ore 10:00) “Modernismo calabrese. La rinascita elegante del primo Novecento”\nL’associazione Italia Liberty ha organizzato una passeggiata guidata alla scoperta delle architetture moderniste dei primi del Novecento\, testimonianze ancora vive della cultura dell’Art Nouveau a Reggio Calabria. L’itinerario prende avvio dal Lungomare Falcomatà\, dove una passeggiata introduttiva permette di osservare i palazzi edificati dopo il terremoto del 1908\, caratterizzati da facciate eleganti\, decorazioni floreali\, ferri battuti e dettagli ornamentali tipici dello stile Liberty. Il percorso prosegue con una sosta davanti al Villino Genovese Zerbi\, tappa centrale dell’itinerario\, che consente di ammirare dall’esterno uno dei più significativi esempi di Liberty calabrese\, celebre per la ricchezza delle decorazioni e per il raffinato gusto eclettico. La passeggiata continua nel centro storico\, attraversando le vie adiacenti al Corso Garibaldi\, dove si incontrano palazzi nobiliari e residenziali che conservano elementi decorativi liberty\, offrendo uno spaccato della Reggio borghese del primo Novecento. Lungo il percorso viene approfondito il contesto storico della ricostruzione successiva al sisma e il ruolo che il Liberty ebbe nella definizione dell’identità architettonica della città in quell’epoca. \nLuogo di incontro: Hotel Exelcesior\, via Vittorio Veneto 66 \nDurata: 2 ore \nCosti: 40€ (Per i soci di Italia Liberty e Touring Club Italiano il costo è di 35€) \nGuida turistica abilitata: Lucia Lombardini \nPrenotazioni: lucialombardini@italialiberty.it | (+39) 347 7281793\nL’attività verrà svolta se si raggiunge un quorum minimo di partecipanti
URL:https://italialiberty.it/evento/modernismo-calabrese-la-rinascita-elegante-del-primo-novecento/2026-07-09/
CATEGORIES:Art Nouveau Week 2026
ORGANIZER;CN="Italia Liberty":MAILTO:info@italialiberty.it
END:VEVENT
BEGIN:VEVENT
DTSTART;TZID=Europe/Rome:20260710T100000
DTEND;TZID=Europe/Rome:20260710T120000
DTSTAMP:20260425T012417
CREATED:20251216T195907Z
LAST-MODIFIED:20260310T144459Z
UID:10000279-1783677600-1783684800@italialiberty.it
SUMMARY:Modernismo calabrese. La rinascita elegante del primo Novecento
DESCRIPTION:Reggio Calabria (ore 10:00) “Modernismo calabrese. La rinascita elegante del primo Novecento”\nL’associazione Italia Liberty ha organizzato una passeggiata guidata alla scoperta delle architetture moderniste dei primi del Novecento\, testimonianze ancora vive della cultura dell’Art Nouveau a Reggio Calabria. L’itinerario prende avvio dal Lungomare Falcomatà\, dove una passeggiata introduttiva permette di osservare i palazzi edificati dopo il terremoto del 1908\, caratterizzati da facciate eleganti\, decorazioni floreali\, ferri battuti e dettagli ornamentali tipici dello stile Liberty. Il percorso prosegue con una sosta davanti al Villino Genovese Zerbi\, tappa centrale dell’itinerario\, che consente di ammirare dall’esterno uno dei più significativi esempi di Liberty calabrese\, celebre per la ricchezza delle decorazioni e per il raffinato gusto eclettico. La passeggiata continua nel centro storico\, attraversando le vie adiacenti al Corso Garibaldi\, dove si incontrano palazzi nobiliari e residenziali che conservano elementi decorativi liberty\, offrendo uno spaccato della Reggio borghese del primo Novecento. Lungo il percorso viene approfondito il contesto storico della ricostruzione successiva al sisma e il ruolo che il Liberty ebbe nella definizione dell’identità architettonica della città in quell’epoca. \nLuogo di incontro: Hotel Exelcesior\, via Vittorio Veneto 66 \nDurata: 2 ore \nCosti: 40€ (Per i soci di Italia Liberty e Touring Club Italiano il costo è di 35€) \nGuida turistica abilitata: Lucia Lombardini \nPrenotazioni: lucialombardini@italialiberty.it | (+39) 347 7281793\nL’attività verrà svolta se si raggiunge un quorum minimo di partecipanti
URL:https://italialiberty.it/evento/modernismo-calabrese-la-rinascita-elegante-del-primo-novecento/2026-07-10/
CATEGORIES:Art Nouveau Week 2026
ORGANIZER;CN="Italia Liberty":MAILTO:info@italialiberty.it
END:VEVENT
BEGIN:VEVENT
DTSTART;TZID=Europe/Rome:20260714T100000
DTEND;TZID=Europe/Rome:20260714T120000
DTSTAMP:20260425T012417
CREATED:20251216T195907Z
LAST-MODIFIED:20260310T144459Z
UID:10000280-1784023200-1784030400@italialiberty.it
SUMMARY:Modernismo calabrese. La rinascita elegante del primo Novecento
DESCRIPTION:Reggio Calabria (ore 10:00) “Modernismo calabrese. La rinascita elegante del primo Novecento”\nL’associazione Italia Liberty ha organizzato una passeggiata guidata alla scoperta delle architetture moderniste dei primi del Novecento\, testimonianze ancora vive della cultura dell’Art Nouveau a Reggio Calabria. L’itinerario prende avvio dal Lungomare Falcomatà\, dove una passeggiata introduttiva permette di osservare i palazzi edificati dopo il terremoto del 1908\, caratterizzati da facciate eleganti\, decorazioni floreali\, ferri battuti e dettagli ornamentali tipici dello stile Liberty. Il percorso prosegue con una sosta davanti al Villino Genovese Zerbi\, tappa centrale dell’itinerario\, che consente di ammirare dall’esterno uno dei più significativi esempi di Liberty calabrese\, celebre per la ricchezza delle decorazioni e per il raffinato gusto eclettico. La passeggiata continua nel centro storico\, attraversando le vie adiacenti al Corso Garibaldi\, dove si incontrano palazzi nobiliari e residenziali che conservano elementi decorativi liberty\, offrendo uno spaccato della Reggio borghese del primo Novecento. Lungo il percorso viene approfondito il contesto storico della ricostruzione successiva al sisma e il ruolo che il Liberty ebbe nella definizione dell’identità architettonica della città in quell’epoca. \nLuogo di incontro: Hotel Exelcesior\, via Vittorio Veneto 66 \nDurata: 2 ore \nCosti: 40€ (Per i soci di Italia Liberty e Touring Club Italiano il costo è di 35€) \nGuida turistica abilitata: Lucia Lombardini \nPrenotazioni: lucialombardini@italialiberty.it | (+39) 347 7281793\nL’attività verrà svolta se si raggiunge un quorum minimo di partecipanti
URL:https://italialiberty.it/evento/modernismo-calabrese-la-rinascita-elegante-del-primo-novecento/2026-07-14/
CATEGORIES:Art Nouveau Week 2026
ORGANIZER;CN="Italia Liberty":MAILTO:info@italialiberty.it
END:VEVENT
END:VCALENDAR