BEGIN:VCALENDAR
VERSION:2.0
PRODID:-//Italia Liberty - ECPv6.15.20//NONSGML v1.0//EN
CALSCALE:GREGORIAN
METHOD:PUBLISH
X-WR-CALNAME:Italia Liberty
X-ORIGINAL-URL:https://italialiberty.it
X-WR-CALDESC:Eventi per Italia Liberty
REFRESH-INTERVAL;VALUE=DURATION:PT1H
X-Robots-Tag:noindex
X-PUBLISHED-TTL:PT1H
BEGIN:VTIMEZONE
TZID:Europe/Rome
BEGIN:DAYLIGHT
TZOFFSETFROM:+0100
TZOFFSETTO:+0200
TZNAME:CEST
DTSTART:20250330T010000
END:DAYLIGHT
BEGIN:STANDARD
TZOFFSETFROM:+0200
TZOFFSETTO:+0100
TZNAME:CET
DTSTART:20251026T010000
END:STANDARD
BEGIN:DAYLIGHT
TZOFFSETFROM:+0100
TZOFFSETTO:+0200
TZNAME:CEST
DTSTART:20260329T010000
END:DAYLIGHT
BEGIN:STANDARD
TZOFFSETFROM:+0200
TZOFFSETTO:+0100
TZNAME:CET
DTSTART:20261025T010000
END:STANDARD
BEGIN:DAYLIGHT
TZOFFSETFROM:+0100
TZOFFSETTO:+0200
TZNAME:CEST
DTSTART:20270328T010000
END:DAYLIGHT
BEGIN:STANDARD
TZOFFSETFROM:+0200
TZOFFSETTO:+0100
TZNAME:CET
DTSTART:20271031T010000
END:STANDARD
END:VTIMEZONE
BEGIN:VEVENT
DTSTART;TZID=Europe/Rome:20260708T090000
DTEND;TZID=Europe/Rome:20260708T110000
DTSTAMP:20260425T001533
CREATED:20251228T203953Z
LAST-MODIFIED:20260310T144703Z
UID:10000335-1783501200-1783508400@italialiberty.it
SUMMARY:Prospetti d’architettura Liberty: Stabilimento balneare Charleston e i villini
DESCRIPTION:Mondello (ore 9:00) “Prospetti d’architettura Liberty: Stabilimento balneare Charleston e i villini”\nL’associazione Italia Liberty ha organizzato una passeggiata guidata\, condotta da una guida abilitata\, alla scoperta delle ville moderniste e dello storico stabilimento balneare Charleston lungo il meraviglioso lungomare di Mondello. Un luogo unico\, celebre in tutto il mondo per la straordinaria bellezza del suo mare dalle acque cristalline\, che fa da cornice a uno dei più ricchi patrimoni Liberty d’Italia. A Mondello natura\, mare e architettura Liberty si fondono in un’armonia rara e affascinante\, offrendo uno sguardo inedito sulla città e sulla sua stagione più elegante. \nLuogo di incontro: Piazza di Valdesi\nDurata: 2 ore\nCosti: 20€ (Per i soci di Italia Liberty e Touring Club Italiano il costo è di 18€). Partecipazione gratuita sotto 8 anni\nGuida turistica abilitata: Maria Viviana Di Bella\nPrenotazioni: mariavivianadibella@italialiberty.it | (+39) 339 6777535\nL’attività verrà svolta al raggiungimento di un quorum minimo di 8 partecipanti. Prenotazione obbligatoria entro e non oltre il giorno 8 Luglio 2026. In caso di gruppi superiori alle 10 persone sarà obbligatorio l’utilizzo delle radioguide (costo 1\,50€ a persona). \nPer un gruppo chiuso precostituito di massimo 30 persone il costo del tour complessivo è di 280€
URL:https://italialiberty.it/evento/prospetti-darchitettura-liberty-stabilimento-balneare-charleston-e-i-villini/2026-07-08/
CATEGORIES:Art Nouveau Week 2026
ORGANIZER;CN="Italia Liberty":MAILTO:info@italialiberty.it
END:VEVENT
BEGIN:VEVENT
DTSTART;TZID=Europe/Rome:20260709T090000
DTEND;TZID=Europe/Rome:20260709T110000
DTSTAMP:20260425T001533
CREATED:20251228T203953Z
LAST-MODIFIED:20260310T144703Z
UID:10000336-1783587600-1783594800@italialiberty.it
SUMMARY:Prospetti d’architettura Liberty: Stabilimento balneare Charleston e i villini
DESCRIPTION:Mondello (ore 9:00) “Prospetti d’architettura Liberty: Stabilimento balneare Charleston e i villini”\nL’associazione Italia Liberty ha organizzato una passeggiata guidata\, condotta da una guida abilitata\, alla scoperta delle ville moderniste e dello storico stabilimento balneare Charleston lungo il meraviglioso lungomare di Mondello. Un luogo unico\, celebre in tutto il mondo per la straordinaria bellezza del suo mare dalle acque cristalline\, che fa da cornice a uno dei più ricchi patrimoni Liberty d’Italia. A Mondello natura\, mare e architettura Liberty si fondono in un’armonia rara e affascinante\, offrendo uno sguardo inedito sulla città e sulla sua stagione più elegante. \nLuogo di incontro: Piazza di Valdesi\nDurata: 2 ore\nCosti: 20€ (Per i soci di Italia Liberty e Touring Club Italiano il costo è di 18€). Partecipazione gratuita sotto 8 anni\nGuida turistica abilitata: Maria Viviana Di Bella\nPrenotazioni: mariavivianadibella@italialiberty.it | (+39) 339 6777535\nL’attività verrà svolta al raggiungimento di un quorum minimo di 8 partecipanti. Prenotazione obbligatoria entro e non oltre il giorno 8 Luglio 2026. In caso di gruppi superiori alle 10 persone sarà obbligatorio l’utilizzo delle radioguide (costo 1\,50€ a persona). \nPer un gruppo chiuso precostituito di massimo 30 persone il costo del tour complessivo è di 280€
URL:https://italialiberty.it/evento/prospetti-darchitettura-liberty-stabilimento-balneare-charleston-e-i-villini/2026-07-09/
CATEGORIES:Art Nouveau Week 2026
ORGANIZER;CN="Italia Liberty":MAILTO:info@italialiberty.it
END:VEVENT
BEGIN:VEVENT
DTSTART;TZID=Europe/Rome:20260710T090000
DTEND;TZID=Europe/Rome:20260710T110000
DTSTAMP:20260425T001533
CREATED:20251228T203953Z
LAST-MODIFIED:20260310T144703Z
UID:10000337-1783674000-1783681200@italialiberty.it
SUMMARY:Prospetti d’architettura Liberty: Stabilimento balneare Charleston e i villini
DESCRIPTION:Mondello (ore 9:00) “Prospetti d’architettura Liberty: Stabilimento balneare Charleston e i villini”\nL’associazione Italia Liberty ha organizzato una passeggiata guidata\, condotta da una guida abilitata\, alla scoperta delle ville moderniste e dello storico stabilimento balneare Charleston lungo il meraviglioso lungomare di Mondello. Un luogo unico\, celebre in tutto il mondo per la straordinaria bellezza del suo mare dalle acque cristalline\, che fa da cornice a uno dei più ricchi patrimoni Liberty d’Italia. A Mondello natura\, mare e architettura Liberty si fondono in un’armonia rara e affascinante\, offrendo uno sguardo inedito sulla città e sulla sua stagione più elegante. \nLuogo di incontro: Piazza di Valdesi\nDurata: 2 ore\nCosti: 20€ (Per i soci di Italia Liberty e Touring Club Italiano il costo è di 18€). Partecipazione gratuita sotto 8 anni\nGuida turistica abilitata: Maria Viviana Di Bella\nPrenotazioni: mariavivianadibella@italialiberty.it | (+39) 339 6777535\nL’attività verrà svolta al raggiungimento di un quorum minimo di 8 partecipanti. Prenotazione obbligatoria entro e non oltre il giorno 8 Luglio 2026. In caso di gruppi superiori alle 10 persone sarà obbligatorio l’utilizzo delle radioguide (costo 1\,50€ a persona). \nPer un gruppo chiuso precostituito di massimo 30 persone il costo del tour complessivo è di 280€
URL:https://italialiberty.it/evento/prospetti-darchitettura-liberty-stabilimento-balneare-charleston-e-i-villini/2026-07-10/
CATEGORIES:Art Nouveau Week 2026
ORGANIZER;CN="Italia Liberty":MAILTO:info@italialiberty.it
END:VEVENT
BEGIN:VEVENT
DTSTART;TZID=Europe/Rome:20260711T090000
DTEND;TZID=Europe/Rome:20260711T110000
DTSTAMP:20260425T001533
CREATED:20251228T203953Z
LAST-MODIFIED:20260310T144703Z
UID:10000338-1783760400-1783767600@italialiberty.it
SUMMARY:Prospetti d’architettura Liberty: Stabilimento balneare Charleston e i villini
DESCRIPTION:Mondello (ore 9:00) “Prospetti d’architettura Liberty: Stabilimento balneare Charleston e i villini”\nL’associazione Italia Liberty ha organizzato una passeggiata guidata\, condotta da una guida abilitata\, alla scoperta delle ville moderniste e dello storico stabilimento balneare Charleston lungo il meraviglioso lungomare di Mondello. Un luogo unico\, celebre in tutto il mondo per la straordinaria bellezza del suo mare dalle acque cristalline\, che fa da cornice a uno dei più ricchi patrimoni Liberty d’Italia. A Mondello natura\, mare e architettura Liberty si fondono in un’armonia rara e affascinante\, offrendo uno sguardo inedito sulla città e sulla sua stagione più elegante. \nLuogo di incontro: Piazza di Valdesi\nDurata: 2 ore\nCosti: 20€ (Per i soci di Italia Liberty e Touring Club Italiano il costo è di 18€). Partecipazione gratuita sotto 8 anni\nGuida turistica abilitata: Maria Viviana Di Bella\nPrenotazioni: mariavivianadibella@italialiberty.it | (+39) 339 6777535\nL’attività verrà svolta al raggiungimento di un quorum minimo di 8 partecipanti. Prenotazione obbligatoria entro e non oltre il giorno 8 Luglio 2026. In caso di gruppi superiori alle 10 persone sarà obbligatorio l’utilizzo delle radioguide (costo 1\,50€ a persona). \nPer un gruppo chiuso precostituito di massimo 30 persone il costo del tour complessivo è di 280€
URL:https://italialiberty.it/evento/prospetti-darchitettura-liberty-stabilimento-balneare-charleston-e-i-villini/2026-07-11/
CATEGORIES:Art Nouveau Week 2026
ORGANIZER;CN="Italia Liberty":MAILTO:info@italialiberty.it
END:VEVENT
END:VCALENDAR