BEGIN:VCALENDAR
VERSION:2.0
PRODID:-//Italia Liberty - ECPv6.15.20//NONSGML v1.0//EN
CALSCALE:GREGORIAN
METHOD:PUBLISH
X-WR-CALNAME:Italia Liberty
X-ORIGINAL-URL:https://italialiberty.it
X-WR-CALDESC:Eventi per Italia Liberty
REFRESH-INTERVAL;VALUE=DURATION:PT1H
X-Robots-Tag:noindex
X-PUBLISHED-TTL:PT1H
BEGIN:VTIMEZONE
TZID:Europe/Rome
BEGIN:DAYLIGHT
TZOFFSETFROM:+0100
TZOFFSETTO:+0200
TZNAME:CEST
DTSTART:20250330T010000
END:DAYLIGHT
BEGIN:STANDARD
TZOFFSETFROM:+0200
TZOFFSETTO:+0100
TZNAME:CET
DTSTART:20251026T010000
END:STANDARD
BEGIN:DAYLIGHT
TZOFFSETFROM:+0100
TZOFFSETTO:+0200
TZNAME:CEST
DTSTART:20260329T010000
END:DAYLIGHT
BEGIN:STANDARD
TZOFFSETFROM:+0200
TZOFFSETTO:+0100
TZNAME:CET
DTSTART:20261025T010000
END:STANDARD
BEGIN:DAYLIGHT
TZOFFSETFROM:+0100
TZOFFSETTO:+0200
TZNAME:CEST
DTSTART:20270328T010000
END:DAYLIGHT
BEGIN:STANDARD
TZOFFSETFROM:+0200
TZOFFSETTO:+0100
TZNAME:CET
DTSTART:20271031T010000
END:STANDARD
END:VTIMEZONE
BEGIN:VEVENT
DTSTART;TZID=Europe/Rome:20260709T173000
DTEND;TZID=Europe/Rome:20260709T190000
DTSTAMP:20260420T164957
CREATED:20260117T104947Z
LAST-MODIFIED:20260310T144314Z
UID:10000424-1783618200-1783623600@italialiberty.it
SUMMARY:Palace Grand Hotel. Alla scoperta di Sommaruga\, protagonista Liberty
DESCRIPTION:Varese (ore 17:30) “Palace Grand Hotel. Alla scoperta di Sommaruga\, protagonista Liberty” \nL’associazione Italia Liberty ha organizzato una visita guidata attraverso il parco che sale al suggestivo Colle Campigli in cui sorge il Palace Grand Hotel\, storico hotel progettato in stile Liberty dall’architetto Giuseppe Sommaruga. Un’occasione per riscoprire l’epoca in cui\, grazie anche alla Società Anonima dei Grandi Alberghi Varesini\, Varese divenne una rinomata meta del turismo d’élite italiano\, apprezzata per la sua posizione panoramica tra laghi\, colline e montagne. Il Palace Grand Hotel ospitò nobili\, artisti e figure di rilievo dell’epoca e malgrado le vicissitudini storiche durante la seconda guerra mondiale\, ha continuato ad operare come hotel fino ai giorni nostri mantenendo molti dettagli Liberty. \nAl piano terra dell’hotel\, oggetto della visita interna\, vi sarà modo di ammirare fregi decorativi\, scale in ferro battuto e lampadari sontuosi che trasmettono il fascino della Belle Époque.  \nDopo la visita è possibile e facoltativo fermarsi per un gradevole aperitivo all’aperto\, nella splendida cornice del parco. \nLuogo di incontro: Cancello di ingresso del Palace Grand Hotel\, in via Sanvito Silvestro\, all’imbocco della via Manara Luciano\, di fronte all’edicola. La visita inizia percorrendo un breve tratto di salita. \nDurata: 1\,30 ora \nCosti: 13€ (Per i soci di Italia Liberty e Touring Club Italiano il costo è di 11€) Partecipazione gratuita per ragazzi/e sotto i 7 anni \nGuida turistica abilitata: Elena Bianchetti \nPrenotazioni: elenabianchetti@italialiberty.it | (+39) 347 0403744 \nL’attività verrà svolta se si raggiunge un quorum minimo di 10 partecipanti e con un massimo di 18 partecipanti. Prenotazione obbligatoria entro e non oltre il 5 luglio 2026 \nPer un gruppo chiuso (massimo 18 partecipanti) precostituito il costo del tour complessivo è di 150€
URL:https://italialiberty.it/evento/palace-grand-hotel-alla-scoperta-di-sommaruga-protagonista-liberty/2026-07-09/
CATEGORIES:Art Nouveau Week 2026
ORGANIZER;CN="Italia Liberty":MAILTO:info@italialiberty.it
END:VEVENT
BEGIN:VEVENT
DTSTART;TZID=Europe/Rome:20260710T173000
DTEND;TZID=Europe/Rome:20260710T190000
DTSTAMP:20260420T164957
CREATED:20260117T104947Z
LAST-MODIFIED:20260310T144314Z
UID:10000425-1783704600-1783710000@italialiberty.it
SUMMARY:Palace Grand Hotel. Alla scoperta di Sommaruga\, protagonista Liberty
DESCRIPTION:Varese (ore 17:30) “Palace Grand Hotel. Alla scoperta di Sommaruga\, protagonista Liberty” \nL’associazione Italia Liberty ha organizzato una visita guidata attraverso il parco che sale al suggestivo Colle Campigli in cui sorge il Palace Grand Hotel\, storico hotel progettato in stile Liberty dall’architetto Giuseppe Sommaruga. Un’occasione per riscoprire l’epoca in cui\, grazie anche alla Società Anonima dei Grandi Alberghi Varesini\, Varese divenne una rinomata meta del turismo d’élite italiano\, apprezzata per la sua posizione panoramica tra laghi\, colline e montagne. Il Palace Grand Hotel ospitò nobili\, artisti e figure di rilievo dell’epoca e malgrado le vicissitudini storiche durante la seconda guerra mondiale\, ha continuato ad operare come hotel fino ai giorni nostri mantenendo molti dettagli Liberty. \nAl piano terra dell’hotel\, oggetto della visita interna\, vi sarà modo di ammirare fregi decorativi\, scale in ferro battuto e lampadari sontuosi che trasmettono il fascino della Belle Époque.  \nDopo la visita è possibile e facoltativo fermarsi per un gradevole aperitivo all’aperto\, nella splendida cornice del parco. \nLuogo di incontro: Cancello di ingresso del Palace Grand Hotel\, in via Sanvito Silvestro\, all’imbocco della via Manara Luciano\, di fronte all’edicola. La visita inizia percorrendo un breve tratto di salita. \nDurata: 1\,30 ora \nCosti: 13€ (Per i soci di Italia Liberty e Touring Club Italiano il costo è di 11€) Partecipazione gratuita per ragazzi/e sotto i 7 anni \nGuida turistica abilitata: Elena Bianchetti \nPrenotazioni: elenabianchetti@italialiberty.it | (+39) 347 0403744 \nL’attività verrà svolta se si raggiunge un quorum minimo di 10 partecipanti e con un massimo di 18 partecipanti. Prenotazione obbligatoria entro e non oltre il 5 luglio 2026 \nPer un gruppo chiuso (massimo 18 partecipanti) precostituito il costo del tour complessivo è di 150€
URL:https://italialiberty.it/evento/palace-grand-hotel-alla-scoperta-di-sommaruga-protagonista-liberty/2026-07-10/
CATEGORIES:Art Nouveau Week 2026
ORGANIZER;CN="Italia Liberty":MAILTO:info@italialiberty.it
END:VEVENT
END:VCALENDAR