BEGIN:VCALENDAR
VERSION:2.0
PRODID:-//Italia Liberty - ECPv6.15.20//NONSGML v1.0//EN
CALSCALE:GREGORIAN
METHOD:PUBLISH
X-WR-CALNAME:Italia Liberty
X-ORIGINAL-URL:https://italialiberty.it
X-WR-CALDESC:Eventi per Italia Liberty
REFRESH-INTERVAL;VALUE=DURATION:PT1H
X-Robots-Tag:noindex
X-PUBLISHED-TTL:PT1H
BEGIN:VTIMEZONE
TZID:Europe/Rome
BEGIN:DAYLIGHT
TZOFFSETFROM:+0100
TZOFFSETTO:+0200
TZNAME:CEST
DTSTART:20250330T010000
END:DAYLIGHT
BEGIN:STANDARD
TZOFFSETFROM:+0200
TZOFFSETTO:+0100
TZNAME:CET
DTSTART:20251026T010000
END:STANDARD
BEGIN:DAYLIGHT
TZOFFSETFROM:+0100
TZOFFSETTO:+0200
TZNAME:CEST
DTSTART:20260329T010000
END:DAYLIGHT
BEGIN:STANDARD
TZOFFSETFROM:+0200
TZOFFSETTO:+0100
TZNAME:CET
DTSTART:20261025T010000
END:STANDARD
BEGIN:DAYLIGHT
TZOFFSETFROM:+0100
TZOFFSETTO:+0200
TZNAME:CEST
DTSTART:20270328T010000
END:DAYLIGHT
BEGIN:STANDARD
TZOFFSETFROM:+0200
TZOFFSETTO:+0100
TZNAME:CET
DTSTART:20271031T010000
END:STANDARD
END:VTIMEZONE
BEGIN:VEVENT
DTSTART;TZID=Europe/Rome:20260709T090000
DTEND;TZID=Europe/Rome:20260709T110000
DTSTAMP:20260421T035658
CREATED:20260203T185435Z
LAST-MODIFIED:20260310T144501Z
UID:10000474-1783587600-1783594800@italialiberty.it
SUMMARY:Il modernismo architettonico in Aristanis
DESCRIPTION:Oristano (ore 9:00) “Il modernismo architettonico in Aristanis” \nL’associazione Italia Liberty ha organizzato una passeggiata guidata che invita a scoprire il fascino discreto e spesso sorprendente del Liberty in Sardegna\, a Oristano seguendo un itinerario che intreccia architettura\, storia urbana e vita quotidiana. La guida accompagnerà i partecipanti lungo un percorso pensato non solo per osservare gli edifici\, ma per comprenderli\, inserendoli nel clima culturale ed economico che tra fine Ottocento e primo Novecento favorì la nascita dell’Art Nouveau\, una corrente che seppe fondere innovazione\, artigianato e desiderio di modernità. Durante la passeggiata verrà offerta una panoramica su come architetti\, artisti e artigiani dell’epoca concepirono questo nuovo linguaggio decorativo\, fatto di linee fluide\, motivi floreali e attenzione al dettaglio\, in dialogo con le aspirazioni di una società in trasformazione. Il percorso prende avvio all’angolo tra Piazza Manno e via Cagliari\, dove si incontra una palazzina Liberty dalle sobrie decorazioni. Qui la guida introduce i primi caratteri dello stile: le proporzioni eleganti\, l’uso misurato dell’ornato e quella volontà di rendere anche l’edilizia residenziale espressione di gusto e modernità. È il punto ideale per raccontare come il Liberty non fosse soltanto uno stile decorativo\, ma un modo nuovo di concepire l’abitare e il vivere la città\, riflesso di un’epoca fiduciosa nel progresso e nelle arti applicate. \nLuogo di incontro: Piazza Manno\, di fronte al Bar Porte Mari \nDurata: 2 ore \nCosti: 20€ (Per i soci di Italia Liberty e Touring Club Italiano il costo è di 18€) gratuità per ragazzi/e sotto i 8 anni \nGuida turistica abilitata: Gianfranco Zucca \nPrenotazioni: gianfrancozucca@italialiberty.it | (+39) 340 6879567 (solo whatsapp)\nL’attività verrà svolta al raggiungimento di un quorum minimo di 8 partecipanti. Prenotazione obbligatoria entro le ore 13:00 del giorno prima. In caso di gruppi superiori alle 10 persone sarà obbligatorio l’utilizzo delle radioguide (costo 1\,50€ a persona)
URL:https://italialiberty.it/evento/il-modernismo-architettonico-in-aristanis/2026-07-09/
CATEGORIES:Art Nouveau Week 2026
ORGANIZER;CN="Italia Liberty":MAILTO:info@italialiberty.it
END:VEVENT
BEGIN:VEVENT
DTSTART;TZID=Europe/Rome:20260713T090000
DTEND;TZID=Europe/Rome:20260713T110000
DTSTAMP:20260421T035658
CREATED:20260203T185435Z
LAST-MODIFIED:20260310T144501Z
UID:10000475-1783933200-1783940400@italialiberty.it
SUMMARY:Il modernismo architettonico in Aristanis
DESCRIPTION:Oristano (ore 9:00) “Il modernismo architettonico in Aristanis” \nL’associazione Italia Liberty ha organizzato una passeggiata guidata che invita a scoprire il fascino discreto e spesso sorprendente del Liberty in Sardegna\, a Oristano seguendo un itinerario che intreccia architettura\, storia urbana e vita quotidiana. La guida accompagnerà i partecipanti lungo un percorso pensato non solo per osservare gli edifici\, ma per comprenderli\, inserendoli nel clima culturale ed economico che tra fine Ottocento e primo Novecento favorì la nascita dell’Art Nouveau\, una corrente che seppe fondere innovazione\, artigianato e desiderio di modernità. Durante la passeggiata verrà offerta una panoramica su come architetti\, artisti e artigiani dell’epoca concepirono questo nuovo linguaggio decorativo\, fatto di linee fluide\, motivi floreali e attenzione al dettaglio\, in dialogo con le aspirazioni di una società in trasformazione. Il percorso prende avvio all’angolo tra Piazza Manno e via Cagliari\, dove si incontra una palazzina Liberty dalle sobrie decorazioni. Qui la guida introduce i primi caratteri dello stile: le proporzioni eleganti\, l’uso misurato dell’ornato e quella volontà di rendere anche l’edilizia residenziale espressione di gusto e modernità. È il punto ideale per raccontare come il Liberty non fosse soltanto uno stile decorativo\, ma un modo nuovo di concepire l’abitare e il vivere la città\, riflesso di un’epoca fiduciosa nel progresso e nelle arti applicate. \nLuogo di incontro: Piazza Manno\, di fronte al Bar Porte Mari \nDurata: 2 ore \nCosti: 20€ (Per i soci di Italia Liberty e Touring Club Italiano il costo è di 18€) gratuità per ragazzi/e sotto i 8 anni \nGuida turistica abilitata: Gianfranco Zucca \nPrenotazioni: gianfrancozucca@italialiberty.it | (+39) 340 6879567 (solo whatsapp)\nL’attività verrà svolta al raggiungimento di un quorum minimo di 8 partecipanti. Prenotazione obbligatoria entro le ore 13:00 del giorno prima. In caso di gruppi superiori alle 10 persone sarà obbligatorio l’utilizzo delle radioguide (costo 1\,50€ a persona)
URL:https://italialiberty.it/evento/il-modernismo-architettonico-in-aristanis/2026-07-13/
CATEGORIES:Art Nouveau Week 2026
ORGANIZER;CN="Italia Liberty":MAILTO:info@italialiberty.it
END:VEVENT
END:VCALENDAR