BEGIN:VCALENDAR
VERSION:2.0
PRODID:-//Italia Liberty - ECPv6.15.20//NONSGML v1.0//EN
CALSCALE:GREGORIAN
METHOD:PUBLISH
X-ORIGINAL-URL:https://italialiberty.it
X-WR-CALDESC:Eventi per Italia Liberty
REFRESH-INTERVAL;VALUE=DURATION:PT1H
X-Robots-Tag:noindex
X-PUBLISHED-TTL:PT1H
BEGIN:VTIMEZONE
TZID:Europe/Rome
BEGIN:DAYLIGHT
TZOFFSETFROM:+0100
TZOFFSETTO:+0200
TZNAME:CEST
DTSTART:20220327T010000
END:DAYLIGHT
BEGIN:STANDARD
TZOFFSETFROM:+0200
TZOFFSETTO:+0100
TZNAME:CET
DTSTART:20221030T010000
END:STANDARD
BEGIN:DAYLIGHT
TZOFFSETFROM:+0100
TZOFFSETTO:+0200
TZNAME:CEST
DTSTART:20230326T010000
END:DAYLIGHT
BEGIN:STANDARD
TZOFFSETFROM:+0200
TZOFFSETTO:+0100
TZNAME:CET
DTSTART:20231029T010000
END:STANDARD
BEGIN:DAYLIGHT
TZOFFSETFROM:+0100
TZOFFSETTO:+0200
TZNAME:CEST
DTSTART:20240331T010000
END:DAYLIGHT
BEGIN:STANDARD
TZOFFSETFROM:+0200
TZOFFSETTO:+0100
TZNAME:CET
DTSTART:20241027T010000
END:STANDARD
END:VTIMEZONE
BEGIN:VEVENT
DTSTART;TZID=Europe/Rome:20230714T183000
DTEND;TZID=Europe/Rome:20230714T210000
DTSTAMP:20260426T011719
CREATED:20230609T220203Z
LAST-MODIFIED:20251126T151554Z
UID:10000081-1689359400-1689368400@italialiberty.it
SUMMARY:Passeggiando fra le ofellerie: un goloso viaggio fra le delizie della pasticceria Art Nouveau
DESCRIPTION:In compagnia dei rievocatori in abiti d’epoca\, degustazione   con escursus storico \, gastronomico e guida all’assaggio di tre dessert creati in Francia e Australia durante la stagione dell’ Art Nouveau ( Paris-Brest\, Pavlova e tarte Tatin)\, in abbinamento a bevande e liquori iconici dei primi del 900. Accompagnamento musicale a cura dei solisti dell’Associazione Corale Luigi Canepa \nIn compagnia dei rievocatori in abiti d’epoca\, degustazione   con escursus storico \, gastronomico e guida all’assaggio di tre dessert creati in Francia e Australia durante la stagione dell’ Art Nouveau ( Paris-Brest\, Pavlova e tarte Tatin)\, in abbinamento a bevande e liquori iconici dei primi del 900. Accompagnamento musicale a cura dei solisti dell’Associazione Corale Luigi Canepa
URL:https://italialiberty.it/evento/passeggiando-fra-le-ofellerie-un-goloso-viaggio-fra-le-delizie-della-pasticceria-art-nouveau/
LOCATION:Piazza Castello\, Piazza Castello\, Sassari\, 07100\, Italia
CATEGORIES:Art Nouveau Week 2023
ATTACH;FMTTYPE=image/jpeg:https://italialiberty.b-cdn.net/2023/06/Anw2023_sassari_foto_mariapiras.jpg
ORGANIZER;CN="Italia Liberty":MAILTO:info@italialiberty.it
END:VEVENT
END:VCALENDAR