BEGIN:VCALENDAR
VERSION:2.0
PRODID:-//Italia Liberty - ECPv6.15.20//NONSGML v1.0//EN
CALSCALE:GREGORIAN
METHOD:PUBLISH
X-ORIGINAL-URL:https://italialiberty.it
X-WR-CALDESC:Eventi per Italia Liberty
REFRESH-INTERVAL;VALUE=DURATION:PT1H
X-Robots-Tag:noindex
X-PUBLISHED-TTL:PT1H
BEGIN:VTIMEZONE
TZID:Europe/Rome
BEGIN:DAYLIGHT
TZOFFSETFROM:+0100
TZOFFSETTO:+0200
TZNAME:CEST
DTSTART:20220327T010000
END:DAYLIGHT
BEGIN:STANDARD
TZOFFSETFROM:+0200
TZOFFSETTO:+0100
TZNAME:CET
DTSTART:20221030T010000
END:STANDARD
BEGIN:DAYLIGHT
TZOFFSETFROM:+0100
TZOFFSETTO:+0200
TZNAME:CEST
DTSTART:20230326T010000
END:DAYLIGHT
BEGIN:STANDARD
TZOFFSETFROM:+0200
TZOFFSETTO:+0100
TZNAME:CET
DTSTART:20231029T010000
END:STANDARD
BEGIN:DAYLIGHT
TZOFFSETFROM:+0100
TZOFFSETTO:+0200
TZNAME:CEST
DTSTART:20240331T010000
END:DAYLIGHT
BEGIN:STANDARD
TZOFFSETFROM:+0200
TZOFFSETTO:+0100
TZNAME:CET
DTSTART:20241027T010000
END:STANDARD
END:VTIMEZONE
BEGIN:VEVENT
DTSTART;TZID=Europe/Rome:20230706T110000
DTEND;TZID=Europe/Rome:20230706T130000
DTSTAMP:20260425T015324
CREATED:20230521T113654Z
LAST-MODIFIED:20251126T152028Z
UID:10000030-1688641200-1688648400@italialiberty.it
SUMMARY:Conferenza stampa a Roma
DESCRIPTION:Si terrà giovedì 6 luglio alle ore 11:00 la quarta delle sei conferenze stampa di presentazione del festival internazionale ART NOUVEAU WEEK che dall’8 al 14 luglio di ogni anno vede coinvolte oltre duecentotrenta città europee dove si tengono visite guidate\, mostre\, conferenze e workshop. \nLa conferenza stampa è in diretta tra le sedi di Torino\, Bari e Roma. \nPer informazioni: info@italialiberty.it +39 3200445798 \nMateriale stampa: https://drive.google.com/drive/folders/1ALqaxQnN-H1WY01Kh0lnLvnTv9M66Kws?usp=sharing
URL:https://italialiberty.it/evento/conferenza-stampa-a-roma/
LOCATION:Regione Lazio\, Via Raimondi Garibaldi\, 7\, Roma\, 00145\, Italia
CATEGORIES:Art Nouveau Week 2023
ORGANIZER;CN="Italia Liberty":MAILTO:info@italialiberty.it
END:VEVENT
END:VCALENDAR