BEGIN:VCALENDAR
VERSION:2.0
PRODID:-//Italia Liberty - ECPv6.15.20//NONSGML v1.0//EN
CALSCALE:GREGORIAN
METHOD:PUBLISH
X-WR-CALNAME:Italia Liberty
X-ORIGINAL-URL:https://italialiberty.it
X-WR-CALDESC:Eventi per Italia Liberty
REFRESH-INTERVAL;VALUE=DURATION:PT1H
X-Robots-Tag:noindex
X-PUBLISHED-TTL:PT1H
BEGIN:VTIMEZONE
TZID:Europe/Rome
BEGIN:DAYLIGHT
TZOFFSETFROM:+0100
TZOFFSETTO:+0200
TZNAME:CEST
DTSTART:20240331T010000
END:DAYLIGHT
BEGIN:STANDARD
TZOFFSETFROM:+0200
TZOFFSETTO:+0100
TZNAME:CET
DTSTART:20241027T010000
END:STANDARD
BEGIN:DAYLIGHT
TZOFFSETFROM:+0100
TZOFFSETTO:+0200
TZNAME:CEST
DTSTART:20250330T010000
END:DAYLIGHT
BEGIN:STANDARD
TZOFFSETFROM:+0200
TZOFFSETTO:+0100
TZNAME:CET
DTSTART:20251026T010000
END:STANDARD
BEGIN:DAYLIGHT
TZOFFSETFROM:+0100
TZOFFSETTO:+0200
TZNAME:CEST
DTSTART:20260329T010000
END:DAYLIGHT
BEGIN:STANDARD
TZOFFSETFROM:+0200
TZOFFSETTO:+0100
TZNAME:CET
DTSTART:20261025T010000
END:STANDARD
END:VTIMEZONE
BEGIN:VEVENT
DTSTART;VALUE=DATE:20251023
DTEND;VALUE=DATE:20251025
DTSTAMP:20260420T161635
CREATED:20251105T230535Z
LAST-MODIFIED:20251126T151506Z
UID:10000166-1761177600-1761350399@italialiberty.it
SUMMARY:ART NOUVEAU DIVERSITIES IN REGIONAL CONTEXT
DESCRIPTION:La città di Riga\, universalmente riconosciuta come una delle capitali mondiali dell’Art Nouveau\, ospiterà il 23 e 24 ottobre 2025 la conferenza scientifica internazionale “Art Nouveau Diversities in Regional Context”.L’incontro riunirà studiosi\, architetti\, storici dell’arte e ricercatori da tutta Europa per discutere le diverse interpretazioni e declinazioni regionali dello stile Art Nouveau – o Jugendstil – nelle arti\, nell’architettura e nelle arti applicate. \nLa conferenza\, organizzata dal Riga State City Council e da istituzioni culturali lettoni\, intende valorizzare la varietà di linguaggi che l’Art Nouveau ha saputo assumere nei diversi contesti nazionali\, dal Nord Europa al Mediterraneo. Riga\, con il suo eccezionale patrimonio architettonico\, rappresenta il luogo ideale per esplorare la ricchezza e la contemporaneità di questo movimento artistico\, ponte fra tradizione e modernità. \nProgramma\n23 ottobre 2025 \n\n\nSessione 1 – Art Nouveau Architectural Heritage in Historical and Theoretical ContextModeratore: Ojārs Spārītis (Lettonia)Interventi di Paul Greenhalgh (UK)\, Sandra Treija e Jānis Krastiņš (Lettonia)\, Pekka Korvenmaa (Finlandia)\, Lucia Leca e Florentina Murea-Matache (Romania)\, Frederik Erens (Paesi Bassi). \n\n\nSessione 2 – Regional and International Aspects of Art Nouveau in ArtModeratore: Inese Baranovska (Lettonia)Tra i relatori: Hervé Doucet (Francia)\, Andrea Speziali (Italia)\, Eduards Kļaviņš (Lettonia)\, Franz Smola (Austria). \n\n\nSessione 3 – Local Characteristics of Art Nouveau ArchitectureModeratore: Hervé Doucet (Francia)Contributi di Agrita Tipāne (Lettonia)\, Gianluca Kannès (Italia)\, Attila Brunner (Ungheria)\, Marija Režek Kambič (Slovenia)\, Viktorija Aladžić (Serbia). \nConclusione della giornata con la presentazione del volume “Art Nouveau: The Architecture of Modern Life” di Paul Greenhalgh. \n\n\n\n24 ottobre 2025 \n\n\nSessione 4 – Art Nouveau Heritage and Contemporary InterpretationModeratore: Sandra Treija (Lettonia)Interventi di Karin Hallas-Murula (Estonia)\, Natalija Lapajne (Slovenia)\, Rizvan Bayramov (Azerbaijan)\, Ernests Sviklis e Anita Antenišķe (Lettonia). \n\n\nSessione 5 – Art Nouveau in Applied ArtsModeratore: Ojārs Spārītis (Lettonia)Relazioni di Sílvia Carbonell Basté (Spagna)\, Edīte Parute (Lettonia)\, Inese Baranovska (Lettonia)\, Marikit Taylor (Svizzera). \n\n\nSessione 6 – Decorative Language of Art Nouveau ArchitectureModeratore: Pekka Korvenmaa (Finlandia)Interventi di Andreia Lourenço (Portogallo)\, Signe Svoen (Norvegia)\, Ilona Audere e Agnese Tambaka (Lettonia). \n\n\n\nDall’Italia:\n“‘Liberty’ Style Architecture and Decorations in Italy”Sessione 2 – 23 ottobre\, ore 12:20 – 12:40 \nMassimo esperto di Liberty in Italia e presidente dell’Associazione Italia Liberty\, Andrea Speziali offrirà un contributo di rilievo sullo sviluppo del linguaggio Liberty nel panorama artistico e architettonico italiano.La sua analisi esplora come\, tra la fine dell’Ottocento e i primi decenni del Novecento\, le arti applicate e decorative abbiano giocato un ruolo fondamentale nel definire un’identità nazionale autonoma rispetto alle correnti europee. \nPartendo dall’emblematico caso di Villa Ruggeri a Pesaro\, esempio paradigmatico di residenza privata in stile Liberty\, Speziali approfondirà la ricerca di una sintesi tra architettura\, ornamento e artigianato d’eccellenza\, con particolare attenzione alla Ditta Ceramiche Artistiche Molaroni e al contributo di figure come Giuseppe Sommaruga\, Pietro Fenoglio\, Alessandro Mazzucotelli e Galileo Chini. \nIl relatore evidenzierà inoltre il valore del Liberty come fenomeno culturale e sociale radicato nella modernità europea\, anticipando temi che saranno ripresi nella mostra “Sculture del mare”\, prevista durante la Art Nouveau Week (8–14 luglio 2026)\, evento internazionale promosso dalla stessa Associazione Italia Liberty. \nLa conferenza “Art Nouveau Diversities in Regional Context” si propone come un’occasione unica di dialogo tra studiosi e istituzioni per riflettere sulla pluralità di interpretazioni che rendono l’Art Nouveau un linguaggio universale e\, al tempo stesso\, profondamente legato alle identità locali.Il contributo di Andrea Speziali offrirà una chiave di lettura preziosa per comprendere la specificità del Liberty italiano all’interno del più ampio mosaico del modernismo europeo.
URL:https://italialiberty.it/evento/art-nouveau-diversities-in-regional-context/
LOCATION:Riga City Council\, Rātslaukums 1\, Centra rajons\, Riga\, Riga\, LV-1050\, Latvia
CATEGORIES:Conferenze e convegni
ATTACH;FMTTYPE=image/jpeg:https://italialiberty.b-cdn.net/2025/11/Congresso_Riga_Lettonia2025.jpg
ORGANIZER;CN="Riga Art Nouveau Centre":MAILTO:jugendstils@riga.lv
END:VEVENT
END:VCALENDAR